BEGIN:VCALENDAR
VERSION:2.0
PRODID:-//85.215.52.112//NONSGML kigkonsult.se iCalcreator 2.20//
CALSCALE:GREGORIAN
METHOD:PUBLISH
X-WR-TIMEZONE:UTC
BEGIN:VEVENT
UID:event68@SKI-CLUB Bauschheim
DTSTAMP:20260421T094730Z
CATEGORIES:Veranstaltung
DESCRIPTION:Weinprobe\nKategorie: Veranstaltung\nICS-Link: https://sc-bausc
 hheim.de/index.php?option=com_jem&view=event&id=68:weinprobe\n
DTSTART;VALUE=DATE:20260523
DTEND;VALUE=DATE:20260524
LOCATION:Weingut Posthof Doll & Göth\,Kreuznacher Straße 2\,55271 Stadecken
 -Elsheim
SUMMARY:Weinprobe
URL:https://sc-bauschheim.de/index.php?option=com_jem&view=event&id=68:wein
 probe
END:VEVENT
BEGIN:VEVENT
UID:event14@SKI-CLUB Bauschheim
DTSTAMP:20260421T094730Z
CATEGORIES:Sommerausfahrt
DESCRIPTION:Radfahren in Lermoos\nKategorie: Sommerausfahrt\nICS-Link: http
 s://sc-bauschheim.de/index.php?option=com_jem&view=event&id=14:fahrradtour
 \n
DTSTART;VALUE=DATE:20260603
DTEND;VALUE=DATE:20260608
LOCATION:Pension - Garni Hochmoos\,Mösle 2\,6631 Lermoos\,Austria
SUMMARY:Radfahren in Lermoos
URL:https://sc-bauschheim.de/index.php?option=com_jem&view=event&id=14:fahr
 radtour
END:VEVENT
BEGIN:VEVENT
UID:event1@SKI-CLUB Bauschheim
DTSTAMP:20260421T094730Z
CATEGORIES:Veranstaltung
DESCRIPTION:Wein trifft See\nKategorie: Veranstaltung\nICS-Link: https://sc
 -bauschheim.de/index.php?option=com_jem&view=event&id=1:see\n
DTSTART;VALUE=DATE:20260613
DTEND;VALUE=DATE:20260615
LOCATION:ASV Bauschheim e.V.\,Am Weinfass 21\,65428 Rüsselsheim\,Germany
SUMMARY:Wein trifft See
URL:https://sc-bauschheim.de/index.php?option=com_jem&view=event&id=1:see
END:VEVENT
BEGIN:VEVENT
UID:event15@SKI-CLUB Bauschheim
DTSTAMP:20260421T094730Z
CATEGORIES:Sommerausfahrt
DESCRIPTION:Zelten und Kanufahren an der Sauer\nKategorie: Sommerausfahrt\n
 ICS-Link: https://sc-bauschheim.de/index.php?option=com_jem&view=event&id=
 15:sauer\n
DTSTART;VALUE=DATE:20260703
DTEND;VALUE=DATE:20260706
LOCATION:Bollendorf\, Campingplatz Altschmiede\,Altschmiede 1\,54669 Bollen
 dorf\,Germany
SUMMARY:Zelten und Kanufahren an der Sauer
URL:https://sc-bauschheim.de/index.php?option=com_jem&view=event&id=15:saue
 r
END:VEVENT
BEGIN:VEVENT
UID:event66@SKI-CLUB Bauschheim
DTSTAMP:20260421T094730Z
CATEGORIES:Veranstaltung
DESCRIPTION:Ortsrundgang mit Führung durch Bauschheim\nKategorie: Veranstal
 tung\nICS-Link: https://sc-bauschheim.de/index.php?option=com_jem&view=eve
 nt&id=66:fuehrung\n
DTSTART:20260722T180000Z
DTEND:20260722T210000Z
LOCATION:Bauschheim\, Bürgerhaus\,Am Kirchgarten 6\,65428 Rüsselsheim-Bausc
 hheim\,Germany
SUMMARY:Ortsrundgang mit Führung durch Bauschheim
URL:https://sc-bauschheim.de/index.php?option=com_jem&view=event&id=66:fueh
 rung
END:VEVENT
BEGIN:VEVENT
UID:event21@SKI-CLUB Bauschheim
DTSTAMP:20260421T094730Z
CATEGORIES:Veranstaltung
DESCRIPTION:Wanderausflug\nKategorie: Veranstaltung\nICS-Link: https://sc-b
 auschheim.de/index.php?option=com_jem&view=event&id=21:wanderausflug\n
DTSTART;VALUE=DATE:20260809
DTEND;VALUE=DATE:20260810
SUMMARY:Wanderausflug
URL:https://sc-bauschheim.de/index.php?option=com_jem&view=event&id=21:wand
 erausflug
END:VEVENT
BEGIN:VEVENT
UID:event20@SKI-CLUB Bauschheim
DTSTAMP:20260421T094730Z
CATEGORIES:Veranstaltung
DESCRIPTION:Planwagenfahrt durch die Rheinauen\nKategorie: Veranstaltung\nI
 CS-Link: https://sc-bauschheim.de/index.php?option=com_jem&view=event&id=2
 0:planwagenfahrt\n
DTSTART;VALUE=DATE:20260906
DTEND;VALUE=DATE:20260907
LOCATION:Bauschheim\, Genosssenschaft\,Pfälzer Strasse 14\,65428 Rüsselshei
 m-Bauschheim\,Germany
SUMMARY:Planwagenfahrt durch die Rheinauen
URL:https://sc-bauschheim.de/index.php?option=com_jem&view=event&id=20:plan
 wagenfahrt
END:VEVENT
BEGIN:VEVENT
UID:event63@SKI-CLUB Bauschheim
DTSTAMP:20260421T094730Z
CATEGORIES:Veranstaltung
DESCRIPTION:Bauschheimer Kerb\nKategorie: Veranstaltung\nICS-Link: https://
 sc-bauschheim.de/index.php?option=com_jem&view=event&id=63:kerb\n
DTSTART;VALUE=DATE:20260925
DTEND;VALUE=DATE:20260929
LOCATION:Bauschheim\, Kerbeplatz\,Backesgasse\,65428 Rüsselsheim-Bauschheim
 \,Germany
SUMMARY:Bauschheimer Kerb
URL:https://sc-bauschheim.de/index.php?option=com_jem&view=event&id=63:kerb
END:VEVENT
BEGIN:VEVENT
UID:event23@SKI-CLUB Bauschheim
DTSTAMP:20260421T094730Z
CATEGORIES:Veranstaltung
DESCRIPTION:Skiservice\, nur für Mitglieder\nKategorie: Veranstaltung\nICS-
 Link: https://sc-bauschheim.de/index.php?option=com_jem&view=event&id=23:s
 kiservice\n
DTSTART;VALUE=DATE:20261019
DTEND;VALUE=DATE:20261020
LOCATION:Bauschheim\, Strassburger Str. 4\,Strassburger Str. 4\,65428 Rüsse
 lsheim-Bauschheim
SUMMARY:Skiservice\, nur für Mitglieder
URL:https://sc-bauschheim.de/index.php?option=com_jem&view=event&id=23:skis
 ervice
END:VEVENT
BEGIN:VEVENT
UID:event67@SKI-CLUB Bauschheim
DTSTAMP:20260421T094730Z
CATEGORIES:Veranstaltung
DESCRIPTION:Gemeinsames Gänse Essen\nKategorie: Veranstaltung\nICS-Link: ht
 tps://sc-bauschheim.de/index.php?option=com_jem&view=event&id=67:ruesselsh
 eim\n
DTSTART;VALUE=DATE:20261107
DTEND;VALUE=DATE:20261108
LOCATION:VFR Sportgaststätte\,Paul-Hessemer-Straße 43\,65428 Rüsselsheim\,G
 ermany
SUMMARY:Gemeinsames Gänse Essen
URL:https://sc-bauschheim.de/index.php?option=com_jem&view=event&id=67:rues
 selsheim
END:VEVENT
BEGIN:VEVENT
UID:event24@SKI-CLUB Bauschheim
DTSTAMP:20260421T094730Z
CATEGORIES:Skiausfahrt
DESCRIPTION:Eröffnungsfahrt nach Hintertux\nKategorie: Skiausfahrt\nICS-Lin
 k: https://sc-bauschheim.de/index.php?option=com_jem&view=event&id=24:hint
 ertux\n
DTSTART;VALUE=DATE:20261118
DTEND;VALUE=DATE:20261122
LOCATION:Hintertux\, Hotel Alpenjuwel\,Vorderlanersbach 282\,6293 Tux\,Aust
 ria
SUMMARY:Eröffnungsfahrt nach Hintertux
URL:https://sc-bauschheim.de/index.php?option=com_jem&view=event&id=24:hint
 ertux
END:VEVENT
BEGIN:VEVENT
UID:event25@SKI-CLUB Bauschheim
DTSTAMP:20260421T094730Z
CATEGORIES:Veranstaltung
DESCRIPTION:Weihnachtsmarkt der Bauschheimer Vereine\nKategorie: Veranstalt
 ung\nICS-Link: https://sc-bauschheim.de/index.php?option=com_jem&view=even
 t&id=25:weihnachtsmarkt\n
DTSTART;VALUE=DATE:20261127
DTEND;VALUE=DATE:20261130
LOCATION:Bauschheim\, Kerbeplatz\,Backesgasse\,65428 Rüsselsheim-Bauschheim
 \,Germany
SUMMARY:Weihnachtsmarkt der Bauschheimer Vereine
URL:https://sc-bauschheim.de/index.php?option=com_jem&view=event&id=25:weih
 nachtsmarkt
END:VEVENT
BEGIN:VEVENT
UID:event49@SKI-CLUB Bauschheim
DTSTAMP:20260421T094730Z
CATEGORIES:Veranstaltung
DESCRIPTION:Jahresabschlussfeier\nKategorie: Veranstaltung\nICS-Link: https
 ://sc-bauschheim.de/index.php?option=com_jem&view=event&id=49:jahresabschl
 uss\n
DTSTART:20261227T170000Z
DTEND:20261227T170000Z
LOCATION:ASV Bauschheim e.V.\,Am Weinfass 21\,65428 Rüsselsheim\,Germany
SUMMARY:Jahresabschlussfeier
URL:https://sc-bauschheim.de/index.php?option=com_jem&view=event&id=49:jahr
 esabschluss
END:VEVENT
BEGIN:VEVENT
UID:event50@SKI-CLUB Bauschheim
DTSTAMP:20260421T094730Z
CATEGORIES:Skiausfahrt
DESCRIPTION:Familienfreizeit nach Großarl\nKategorie: Skiausfahrt\nICS-Link
 : https://sc-bauschheim.de/index.php?option=com_jem&view=event&id=50:famie
 lienausfahrt\n
DTSTART;VALUE=DATE:20270102
DTEND;VALUE=DATE:20270110
LOCATION:Grossarl\, Hotel Roslehen\,Unterberg 2\,5611 Großarl\,Austria
SUMMARY:Familienfreizeit nach Großarl
URL:https://sc-bauschheim.de/index.php?option=com_jem&view=event&id=50:fami
 elienausfahrt
END:VEVENT
BEGIN:VEVENT
UID:event52@SKI-CLUB Bauschheim
DTSTAMP:20260421T094730Z
CATEGORIES:Veranstaltung
DESCRIPTION:Besuch der BNZ Fastnachtssitzung\nKategorie: Veranstaltung\nICS
 -Link: https://sc-bauschheim.de/index.php?option=com_jem&view=event&id=52:
 fastnachtsitzung\n
DTSTART;VALUE=DATE:20270123
DTEND;VALUE=DATE:20270124
LOCATION:Bauschheim\, Bürgerhaus\,Am Kirchgarten 6\,65428 Rüsselsheim-Bausc
 hheim\,Germany
SUMMARY:Besuch der BNZ Fastnachtssitzung
URL:https://sc-bauschheim.de/index.php?option=com_jem&view=event&id=52:fast
 nachtsitzung
END:VEVENT
BEGIN:VEVENT
UID:event60@SKI-CLUB Bauschheim
DTSTAMP:20260421T094730Z
CATEGORIES:Skiausfahrt
DESCRIPTION:Skifreizeit zum Wilden Kaiser\nKategorie: Skiausfahrt\nICS-Link
 : https://sc-bauschheim.de/index.php?option=com_jem&view=event&id=60:kaise
 r\n
DTSTART;VALUE=DATE:20270127
DTEND;VALUE=DATE:20270201
LOCATION:Hotel Harfenwirt\,Grafenweg 325\,6314 Niederau\,Austria
SUMMARY:Skifreizeit zum Wilden Kaiser
URL:https://sc-bauschheim.de/index.php?option=com_jem&view=event&id=60:kais
 er
END:VEVENT
BEGIN:VEVENT
UID:event54@SKI-CLUB Bauschheim
DTSTAMP:20260421T094730Z
CATEGORIES:Veranstaltung
DESCRIPTION:Jahreshauptversammlung\nKategorie: Veranstaltung\nICS-Link: htt
 ps://sc-bauschheim.de/index.php?option=com_jem&view=event&id=54:jhv\n
DTSTART;VALUE=DATE:20270312
DTEND;VALUE=DATE:20270313
LOCATION:Bauschheim\, Bürgerhaus\,Am Kirchgarten 6\,65428 Rüsselsheim-Bausc
 hheim\,Germany
SUMMARY:Jahreshauptversammlung
URL:https://sc-bauschheim.de/index.php?option=com_jem&view=event&id=54:jhv
END:VEVENT
BEGIN:VEVENT
UID:event44@SKI-CLUB Bauschheim
DTSTAMP:20260421T094730Z
CATEGORIES:Veranstaltung
DESCRIPTION:Helferfest\nKategorie: Veranstaltung\nICS-Link: https://sc-baus
 chheim.de/index.php?option=com_jem&view=event&id=44:helferfest\n
DTSTART;VALUE=DATE:20270403
DTEND;VALUE=DATE:20270404
SUMMARY:Helferfest
URL:https://sc-bauschheim.de/index.php?option=com_jem&view=event&id=44:helf
 erfest
END:VEVENT
END:VCALENDAR
