BEGIN:VCALENDAR
VERSION:2.0
PRODID:-//85.215.52.112//NONSGML kigkonsult.se iCalcreator 2.20//
CALSCALE:GREGORIAN
METHOD:PUBLISH
X-WR-TIMEZONE:UTC
BEGIN:VEVENT
UID:event67@SKI-CLUB Bauschheim
DTSTAMP:20260421T105652Z
CATEGORIES:Veranstaltung
DESCRIPTION:Gemeinsames Gänse Essen\nKategorie: Veranstaltung\nICS-Link: ht
 tps://sc-bauschheim.de/index.php?option=com_jem&view=event&id=67:ruesselsh
 eim\n
DTSTART;VALUE=DATE:20261107
DTEND;VALUE=DATE:20261108
LOCATION:VFR Sportgaststätte\,Paul-Hessemer-Straße 43\,65428 Rüsselsheim\,G
 ermany
SUMMARY:Gemeinsames Gänse Essen
URL:https://sc-bauschheim.de/index.php?option=com_jem&view=event&id=67:rues
 selsheim
END:VEVENT
END:VCALENDAR
